BEGIN:VCALENDAR
VERSION:2.0
PRODID:-//Lake Como Beach Property Owner&#039;s Association - ECPv6.15.17.1//NONSGML v1.0//EN
CALSCALE:GREGORIAN
METHOD:PUBLISH
X-WR-CALNAME:Lake Como Beach Property Owner&#039;s Association
X-ORIGINAL-URL:https://lakecomobeachpoa.com
X-WR-CALDESC:Events for Lake Como Beach Property Owner&#039;s Association
REFRESH-INTERVAL;VALUE=DURATION:PT1H
X-Robots-Tag:noindex
X-PUBLISHED-TTL:PT1H
BEGIN:VTIMEZONE
TZID:America/Chicago
BEGIN:DAYLIGHT
TZOFFSETFROM:-0600
TZOFFSETTO:-0500
TZNAME:CDT
DTSTART:20240310T080000
END:DAYLIGHT
BEGIN:STANDARD
TZOFFSETFROM:-0500
TZOFFSETTO:-0600
TZNAME:CST
DTSTART:20241103T070000
END:STANDARD
BEGIN:DAYLIGHT
TZOFFSETFROM:-0600
TZOFFSETTO:-0500
TZNAME:CDT
DTSTART:20250309T080000
END:DAYLIGHT
BEGIN:STANDARD
TZOFFSETFROM:-0500
TZOFFSETTO:-0600
TZNAME:CST
DTSTART:20251102T070000
END:STANDARD
BEGIN:DAYLIGHT
TZOFFSETFROM:-0600
TZOFFSETTO:-0500
TZNAME:CDT
DTSTART:20260308T080000
END:DAYLIGHT
BEGIN:STANDARD
TZOFFSETFROM:-0500
TZOFFSETTO:-0600
TZNAME:CST
DTSTART:20261101T070000
END:STANDARD
END:VTIMEZONE
BEGIN:VEVENT
DTSTART;TZID=America/Chicago:20250405T120000
DTEND;TZID=America/Chicago:20250405T210000
DTSTAMP:20260422T175351
CREATED:20250329T155309Z
LAST-MODIFIED:20250329T155309Z
UID:10000889-1743854400-1743886800@lakecomobeachpoa.com
SUMMARY:1st Birthday
DESCRIPTION:
URL:https://lakecomobeachpoa.com/event/1st-birthday-3/
CATEGORIES:Clubhouse Rental
END:VEVENT
BEGIN:VEVENT
DTSTART;TZID=America/Chicago:20250406T120000
DTEND;TZID=America/Chicago:20250406T210000
DTSTAMP:20260422T175351
CREATED:20250329T155437Z
LAST-MODIFIED:20250329T155437Z
UID:10000890-1743940800-1743973200@lakecomobeachpoa.com
SUMMARY:Bridal Shower
DESCRIPTION:
URL:https://lakecomobeachpoa.com/event/bridal-shower-4/
CATEGORIES:Clubhouse Rental
END:VEVENT
BEGIN:VEVENT
DTSTART;TZID=America/Chicago:20250412T120000
DTEND;TZID=America/Chicago:20250412T210000
DTSTAMP:20260422T175351
CREATED:20250329T155527Z
LAST-MODIFIED:20250329T155527Z
UID:10000891-1744459200-1744491600@lakecomobeachpoa.com
SUMMARY:1st Birthday
DESCRIPTION:
URL:https://lakecomobeachpoa.com/event/1st-birthday-4/
CATEGORIES:Clubhouse Rental
END:VEVENT
BEGIN:VEVENT
DTSTART;TZID=America/Chicago:20250413T120000
DTEND;TZID=America/Chicago:20250413T210000
DTSTAMP:20260422T175351
CREATED:20250329T155613Z
LAST-MODIFIED:20250329T155613Z
UID:10000892-1744545600-1744578000@lakecomobeachpoa.com
SUMMARY:Baby Shower
DESCRIPTION:
URL:https://lakecomobeachpoa.com/event/baby-shower-18/
CATEGORIES:Clubhouse Rental
END:VEVENT
BEGIN:VEVENT
DTSTART;TZID=America/Chicago:20250427T120000
DTEND;TZID=America/Chicago:20250427T210000
DTSTAMP:20260422T175351
CREATED:20250329T155832Z
LAST-MODIFIED:20250329T155832Z
UID:10000894-1745755200-1745787600@lakecomobeachpoa.com
SUMMARY:Shower
DESCRIPTION:
URL:https://lakecomobeachpoa.com/event/shower-2/
CATEGORIES:Clubhouse Rental
END:VEVENT
BEGIN:VEVENT
DTSTART;VALUE=DATE:20250430
DTEND;VALUE=DATE:20250501
DTSTAMP:20260422T175351
CREATED:20250430T220113Z
LAST-MODIFIED:20250430T220702Z
UID:10000936-1745971200-1746057599@lakecomobeachpoa.com
SUMMARY:Pat Pine Set-up
DESCRIPTION:
URL:https://lakecomobeachpoa.com/event/pat-pine-set-up/
CATEGORIES:Clubhouse Rental
END:VEVENT
END:VCALENDAR