BEGIN:VCALENDAR
VERSION:2.0
PRODID:-//Lake Como Beach Property Owner&#039;s Association - ECPv6.15.17.1//NONSGML v1.0//EN
CALSCALE:GREGORIAN
METHOD:PUBLISH
X-ORIGINAL-URL:https://lakecomobeachpoa.com
X-WR-CALDESC:Events for Lake Como Beach Property Owner&#039;s Association
REFRESH-INTERVAL;VALUE=DURATION:PT1H
X-Robots-Tag:noindex
X-PUBLISHED-TTL:PT1H
BEGIN:VTIMEZONE
TZID:America/Chicago
BEGIN:DAYLIGHT
TZOFFSETFROM:-0600
TZOFFSETTO:-0500
TZNAME:CDT
DTSTART:20240310T080000
END:DAYLIGHT
BEGIN:STANDARD
TZOFFSETFROM:-0500
TZOFFSETTO:-0600
TZNAME:CST
DTSTART:20241103T070000
END:STANDARD
BEGIN:DAYLIGHT
TZOFFSETFROM:-0600
TZOFFSETTO:-0500
TZNAME:CDT
DTSTART:20250309T080000
END:DAYLIGHT
BEGIN:STANDARD
TZOFFSETFROM:-0500
TZOFFSETTO:-0600
TZNAME:CST
DTSTART:20251102T070000
END:STANDARD
BEGIN:DAYLIGHT
TZOFFSETFROM:-0600
TZOFFSETTO:-0500
TZNAME:CDT
DTSTART:20260308T080000
END:DAYLIGHT
BEGIN:STANDARD
TZOFFSETFROM:-0500
TZOFFSETTO:-0600
TZNAME:CST
DTSTART:20261101T070000
END:STANDARD
END:VTIMEZONE
BEGIN:VEVENT
DTSTART;VALUE=DATE:20250502
DTEND;VALUE=DATE:20250503
DTSTAMP:20260422T155239
CREATED:20250428T205331Z
LAST-MODIFIED:20250428T205331Z
UID:10000920-1746144000-1746230399@lakecomobeachpoa.com
SUMMARY:Wedding set-up
DESCRIPTION:
URL:https://lakecomobeachpoa.com/event/wedding-set-up-24/
CATEGORIES:Clubhouse Rental
END:VEVENT
BEGIN:VEVENT
DTSTART;VALUE=DATE:20250503
DTEND;VALUE=DATE:20250504
DTSTAMP:20260422T155239
CREATED:20250428T205411Z
LAST-MODIFIED:20250428T205411Z
UID:10000922-1746230400-1746316799@lakecomobeachpoa.com
SUMMARY:Wedding & Reception
DESCRIPTION:
URL:https://lakecomobeachpoa.com/event/wedding-reception/
CATEGORIES:Clubhouse Rental
END:VEVENT
BEGIN:VEVENT
DTSTART;TZID=America/Chicago:20250504T080000
DTEND;TZID=America/Chicago:20250504T160000
DTSTAMP:20260422T155239
CREATED:20250428T205512Z
LAST-MODIFIED:20250428T205512Z
UID:10000924-1746345600-1746374400@lakecomobeachpoa.com
SUMMARY:Babyshower
DESCRIPTION:
URL:https://lakecomobeachpoa.com/event/babyshower/
CATEGORIES:Clubhouse Rental
END:VEVENT
BEGIN:VEVENT
DTSTART;VALUE=DATE:20250509
DTEND;VALUE=DATE:20250510
DTSTAMP:20260422T155239
CREATED:20250428T205605Z
LAST-MODIFIED:20250428T205605Z
UID:10000926-1746748800-1746835199@lakecomobeachpoa.com
SUMMARY:Wedding set-up
DESCRIPTION:
URL:https://lakecomobeachpoa.com/event/wedding-set-up-26/
CATEGORIES:Clubhouse Rental
END:VEVENT
BEGIN:VEVENT
DTSTART;VALUE=DATE:20250509
DTEND;VALUE=DATE:20250511
DTSTAMP:20260422T155239
CREATED:20250428T210354Z
LAST-MODIFIED:20250430T220607Z
UID:10000937-1746748800-1746921599@lakecomobeachpoa.com
SUMMARY:Wedding
DESCRIPTION:
URL:https://lakecomobeachpoa.com/event/wedding-21/
CATEGORIES:Clubhouse Rental
END:VEVENT
BEGIN:VEVENT
DTSTART;VALUE=DATE:20250516
DTEND;VALUE=DATE:20250517
DTSTAMP:20260422T155239
CREATED:20250428T210650Z
LAST-MODIFIED:20250428T210650Z
UID:10000933-1747353600-1747439999@lakecomobeachpoa.com
SUMMARY:Wedding set-up
DESCRIPTION:
URL:https://lakecomobeachpoa.com/event/wedding-set-up-25/
CATEGORIES:Clubhouse Rental
END:VEVENT
BEGIN:VEVENT
DTSTART;VALUE=DATE:20250517
DTEND;VALUE=DATE:20250518
DTSTAMP:20260422T155239
CREATED:20250428T210823Z
LAST-MODIFIED:20250428T210823Z
UID:10000934-1747440000-1747526399@lakecomobeachpoa.com
SUMMARY:Wedding
DESCRIPTION:
URL:https://lakecomobeachpoa.com/event/wedding-22/
CATEGORIES:Clubhouse Rental
END:VEVENT
BEGIN:VEVENT
DTSTART;VALUE=DATE:20250528
DTEND;VALUE=DATE:20250529
DTSTAMP:20260422T155239
CREATED:20250430T220113Z
LAST-MODIFIED:20250430T220702Z
UID:10000938-1748390400-1748476799@lakecomobeachpoa.com
SUMMARY:Pat Pine Set-up
DESCRIPTION:
URL:https://lakecomobeachpoa.com/event/pat-pine-set-up/
CATEGORIES:Clubhouse Rental
END:VEVENT
BEGIN:VEVENT
DTSTART;VALUE=DATE:20250529
DTEND;VALUE=DATE:20250602
DTSTAMP:20260422T155239
CREATED:20250430T220913Z
LAST-MODIFIED:20250430T220913Z
UID:10000939-1748476800-1748822399@lakecomobeachpoa.com
SUMMARY:Pat Pine Classes
DESCRIPTION:
URL:https://lakecomobeachpoa.com/event/pat-pine-classes/
CATEGORIES:Clubhouse Rental
END:VEVENT
END:VCALENDAR