BEGIN:VCALENDAR
VERSION:2.0
PRODID:-//Lake Como Beach Property Owner&#039;s Association - ECPv6.15.17.1//NONSGML v1.0//EN
CALSCALE:GREGORIAN
METHOD:PUBLISH
X-WR-CALNAME:Lake Como Beach Property Owner&#039;s Association
X-ORIGINAL-URL:https://lakecomobeachpoa.com
X-WR-CALDESC:Events for Lake Como Beach Property Owner&#039;s Association
REFRESH-INTERVAL;VALUE=DURATION:PT1H
X-Robots-Tag:noindex
X-PUBLISHED-TTL:PT1H
BEGIN:VTIMEZONE
TZID:America/Chicago
BEGIN:DAYLIGHT
TZOFFSETFROM:-0600
TZOFFSETTO:-0500
TZNAME:CDT
DTSTART:20240310T080000
END:DAYLIGHT
BEGIN:STANDARD
TZOFFSETFROM:-0500
TZOFFSETTO:-0600
TZNAME:CST
DTSTART:20241103T070000
END:STANDARD
BEGIN:DAYLIGHT
TZOFFSETFROM:-0600
TZOFFSETTO:-0500
TZNAME:CDT
DTSTART:20250309T080000
END:DAYLIGHT
BEGIN:STANDARD
TZOFFSETFROM:-0500
TZOFFSETTO:-0600
TZNAME:CST
DTSTART:20251102T070000
END:STANDARD
BEGIN:DAYLIGHT
TZOFFSETFROM:-0600
TZOFFSETTO:-0500
TZNAME:CDT
DTSTART:20260308T080000
END:DAYLIGHT
BEGIN:STANDARD
TZOFFSETFROM:-0500
TZOFFSETTO:-0600
TZNAME:CST
DTSTART:20261101T070000
END:STANDARD
END:VTIMEZONE
BEGIN:VEVENT
DTSTART;VALUE=DATE:20250711
DTEND;VALUE=DATE:20250712
DTSTAMP:20260422T121921
CREATED:20250621T160412Z
LAST-MODIFIED:20250621T160412Z
UID:10001244-1752192000-1752278399@lakecomobeachpoa.com
SUMMARY:Wedding Set-up
DESCRIPTION:
URL:https://lakecomobeachpoa.com/event/wedding-set-up-27/
CATEGORIES:Clubhouse Rental
END:VEVENT
BEGIN:VEVENT
DTSTART;VALUE=DATE:20250712
DTEND;VALUE=DATE:20250713
DTSTAMP:20260422T121921
CREATED:20250621T160447Z
LAST-MODIFIED:20250621T160447Z
UID:10001245-1752278400-1752364799@lakecomobeachpoa.com
SUMMARY:Wedding
DESCRIPTION:
URL:https://lakecomobeachpoa.com/event/wedding-23/
CATEGORIES:Clubhouse Rental
END:VEVENT
BEGIN:VEVENT
DTSTART;VALUE=DATE:20250713
DTEND;VALUE=DATE:20250714
DTSTAMP:20260422T121921
CREATED:20250621T160534Z
LAST-MODIFIED:20250621T160534Z
UID:10001246-1752364800-1752451199@lakecomobeachpoa.com
SUMMARY:Bridal Shower
DESCRIPTION:
URL:https://lakecomobeachpoa.com/event/bridal-shower-5/
CATEGORIES:Clubhouse Rental
END:VEVENT
BEGIN:VEVENT
DTSTART;VALUE=DATE:20250720
DTEND;VALUE=DATE:20250721
DTSTAMP:20260422T121921
CREATED:20250621T160607Z
LAST-MODIFIED:20250621T160607Z
UID:10001247-1752969600-1753055999@lakecomobeachpoa.com
SUMMARY:Birthday
DESCRIPTION:
URL:https://lakecomobeachpoa.com/event/birthday-3/
CATEGORIES:Clubhouse Rental
END:VEVENT
BEGIN:VEVENT
DTSTART;VALUE=DATE:20250725
DTEND;VALUE=DATE:20250726
DTSTAMP:20260422T121921
CREATED:20250621T160738Z
LAST-MODIFIED:20250621T160738Z
UID:10001249-1753401600-1753487999@lakecomobeachpoa.com
SUMMARY:Wedding Set-up
DESCRIPTION:
URL:https://lakecomobeachpoa.com/event/wedding-set-up-28/
CATEGORIES:Clubhouse Rental
END:VEVENT
BEGIN:VEVENT
DTSTART;VALUE=DATE:20250726
DTEND;VALUE=DATE:20250727
DTSTAMP:20260422T121921
CREATED:20250621T160830Z
LAST-MODIFIED:20250621T160830Z
UID:10001250-1753488000-1753574399@lakecomobeachpoa.com
SUMMARY:Wedding
DESCRIPTION:
URL:https://lakecomobeachpoa.com/event/wedding-24/
CATEGORIES:Clubhouse Rental
END:VEVENT
BEGIN:VEVENT
DTSTART;VALUE=DATE:20250727
DTEND;VALUE=DATE:20250728
DTSTAMP:20260422T121921
CREATED:20250621T160915Z
LAST-MODIFIED:20250621T160915Z
UID:10001251-1753574400-1753660799@lakecomobeachpoa.com
SUMMARY:Bridal Shower
DESCRIPTION:
URL:https://lakecomobeachpoa.com/event/bridal-shower-6/
CATEGORIES:Clubhouse Rental
END:VEVENT
END:VCALENDAR