BEGIN:VCALENDAR
VERSION:2.0
PRODID:-//Lake Como Beach Property Owner&#039;s Association - ECPv6.15.17.1//NONSGML v1.0//EN
CALSCALE:GREGORIAN
METHOD:PUBLISH
X-WR-CALNAME:Lake Como Beach Property Owner&#039;s Association
X-ORIGINAL-URL:https://lakecomobeachpoa.com
X-WR-CALDESC:Events for Lake Como Beach Property Owner&#039;s Association
REFRESH-INTERVAL;VALUE=DURATION:PT1H
X-Robots-Tag:noindex
X-PUBLISHED-TTL:PT1H
BEGIN:VTIMEZONE
TZID:America/Chicago
BEGIN:DAYLIGHT
TZOFFSETFROM:-0600
TZOFFSETTO:-0500
TZNAME:CDT
DTSTART:20240310T080000
END:DAYLIGHT
BEGIN:STANDARD
TZOFFSETFROM:-0500
TZOFFSETTO:-0600
TZNAME:CST
DTSTART:20241103T070000
END:STANDARD
BEGIN:DAYLIGHT
TZOFFSETFROM:-0600
TZOFFSETTO:-0500
TZNAME:CDT
DTSTART:20250309T080000
END:DAYLIGHT
BEGIN:STANDARD
TZOFFSETFROM:-0500
TZOFFSETTO:-0600
TZNAME:CST
DTSTART:20251102T070000
END:STANDARD
BEGIN:DAYLIGHT
TZOFFSETFROM:-0600
TZOFFSETTO:-0500
TZNAME:CDT
DTSTART:20260308T080000
END:DAYLIGHT
BEGIN:STANDARD
TZOFFSETFROM:-0500
TZOFFSETTO:-0600
TZNAME:CST
DTSTART:20261101T070000
END:STANDARD
END:VTIMEZONE
BEGIN:VEVENT
DTSTART;VALUE=DATE:20250801
DTEND;VALUE=DATE:20250802
DTSTAMP:20260422T102134
CREATED:20250716T223246Z
LAST-MODIFIED:20250716T223246Z
UID:10001252-1754006400-1754092799@lakecomobeachpoa.com
SUMMARY:Reception Set-Up
DESCRIPTION:
URL:https://lakecomobeachpoa.com/event/reception-set-up/
CATEGORIES:Clubhouse Rental
END:VEVENT
BEGIN:VEVENT
DTSTART;VALUE=DATE:20250802
DTEND;VALUE=DATE:20250803
DTSTAMP:20260422T102134
CREATED:20250716T223317Z
LAST-MODIFIED:20250716T223317Z
UID:10001253-1754092800-1754179199@lakecomobeachpoa.com
SUMMARY:Reception
DESCRIPTION:
URL:https://lakecomobeachpoa.com/event/reception/
CATEGORIES:Clubhouse Rental
END:VEVENT
BEGIN:VEVENT
DTSTART;VALUE=DATE:20250803
DTEND;VALUE=DATE:20250804
DTSTAMP:20260422T102134
CREATED:20250716T223343Z
LAST-MODIFIED:20250716T223343Z
UID:10001254-1754179200-1754265599@lakecomobeachpoa.com
SUMMARY:Shower
DESCRIPTION:
URL:https://lakecomobeachpoa.com/event/shower-3/
CATEGORIES:Clubhouse Rental
END:VEVENT
BEGIN:VEVENT
DTSTART;VALUE=DATE:20250809
DTEND;VALUE=DATE:20250810
DTSTAMP:20260422T102134
CREATED:20250809T153708Z
LAST-MODIFIED:20250809T153708Z
UID:10001531-1754697600-1754783999@lakecomobeachpoa.com
SUMMARY:Flamingo Event
DESCRIPTION:
URL:https://lakecomobeachpoa.com/event/flamingo-event/
CATEGORIES:Clubhouse Rental
END:VEVENT
BEGIN:VEVENT
DTSTART;VALUE=DATE:20250815
DTEND;VALUE=DATE:20250816
DTSTAMP:20260422T102134
CREATED:20250809T153805Z
LAST-MODIFIED:20250809T153805Z
UID:10001532-1755216000-1755302399@lakecomobeachpoa.com
SUMMARY:Celebration of Life
DESCRIPTION:
URL:https://lakecomobeachpoa.com/event/celebration-of-life-5/
CATEGORIES:Clubhouse Rental
END:VEVENT
BEGIN:VEVENT
DTSTART;TZID=America/Chicago:20250816T130000
DTEND;TZID=America/Chicago:20250816T190000
DTSTAMP:20260422T102134
CREATED:20250809T154907Z
LAST-MODIFIED:20250809T154907Z
UID:10001533-1755349200-1755370800@lakecomobeachpoa.com
SUMMARY:Joey Plooza
DESCRIPTION:
URL:https://lakecomobeachpoa.com/event/joey-plooza/
CATEGORIES:Clubhouse Rental
END:VEVENT
BEGIN:VEVENT
DTSTART;VALUE=DATE:20250823
DTEND;VALUE=DATE:20250824
DTSTAMP:20260422T102134
CREATED:20250809T154947Z
LAST-MODIFIED:20250809T154947Z
UID:10001534-1755907200-1755993599@lakecomobeachpoa.com
SUMMARY:Bridal Shower
DESCRIPTION:
URL:https://lakecomobeachpoa.com/event/bridal-shower-7/
CATEGORIES:Clubhouse Rental
END:VEVENT
BEGIN:VEVENT
DTSTART;VALUE=DATE:20250824
DTEND;VALUE=DATE:20250825
DTSTAMP:20260422T102134
CREATED:20250809T155033Z
LAST-MODIFIED:20250809T155033Z
UID:10001535-1755993600-1756079999@lakecomobeachpoa.com
SUMMARY:Shower
DESCRIPTION:
URL:https://lakecomobeachpoa.com/event/shower-4/
CATEGORIES:Clubhouse Rental
END:VEVENT
END:VCALENDAR