BEGIN:VCALENDAR
VERSION:2.0
PRODID:-//Lake Como Beach Property Owner&#039;s Association - ECPv6.15.17.1//NONSGML v1.0//EN
CALSCALE:GREGORIAN
METHOD:PUBLISH
X-ORIGINAL-URL:https://lakecomobeachpoa.com
X-WR-CALDESC:Events for Lake Como Beach Property Owner&#039;s Association
REFRESH-INTERVAL;VALUE=DURATION:PT1H
X-Robots-Tag:noindex
X-PUBLISHED-TTL:PT1H
BEGIN:VTIMEZONE
TZID:America/Chicago
BEGIN:DAYLIGHT
TZOFFSETFROM:-0600
TZOFFSETTO:-0500
TZNAME:CDT
DTSTART:20240310T080000
END:DAYLIGHT
BEGIN:STANDARD
TZOFFSETFROM:-0500
TZOFFSETTO:-0600
TZNAME:CST
DTSTART:20241103T070000
END:STANDARD
BEGIN:DAYLIGHT
TZOFFSETFROM:-0600
TZOFFSETTO:-0500
TZNAME:CDT
DTSTART:20250309T080000
END:DAYLIGHT
BEGIN:STANDARD
TZOFFSETFROM:-0500
TZOFFSETTO:-0600
TZNAME:CST
DTSTART:20251102T070000
END:STANDARD
BEGIN:DAYLIGHT
TZOFFSETFROM:-0600
TZOFFSETTO:-0500
TZNAME:CDT
DTSTART:20260308T080000
END:DAYLIGHT
BEGIN:STANDARD
TZOFFSETFROM:-0500
TZOFFSETTO:-0600
TZNAME:CST
DTSTART:20261101T070000
END:STANDARD
END:VTIMEZONE
BEGIN:VEVENT
DTSTART;VALUE=DATE:20250912
DTEND;VALUE=DATE:20250913
DTSTAMP:20260422T083859
CREATED:20250809T163137Z
LAST-MODIFIED:20250809T163137Z
UID:10001611-1757635200-1757721599@lakecomobeachpoa.com
SUMMARY:Wedding set-up
DESCRIPTION:
URL:https://lakecomobeachpoa.com/event/wedding-set-up-29/
CATEGORIES:Clubhouse Rental
END:VEVENT
BEGIN:VEVENT
DTSTART;VALUE=DATE:20250913
DTEND;VALUE=DATE:20250914
DTSTAMP:20260422T083859
CREATED:20250809T163207Z
LAST-MODIFIED:20250809T163207Z
UID:10001612-1757721600-1757807999@lakecomobeachpoa.com
SUMMARY:Wedding
DESCRIPTION:
URL:https://lakecomobeachpoa.com/event/wedding-25/
CATEGORIES:Clubhouse Rental
END:VEVENT
BEGIN:VEVENT
DTSTART;VALUE=DATE:20250918
DTEND;VALUE=DATE:20250919
DTSTAMP:20260422T083859
CREATED:20250809T163629Z
LAST-MODIFIED:20250809T163629Z
UID:10001663-1758153600-1758239999@lakecomobeachpoa.com
SUMMARY:90th Birthday Set-up
DESCRIPTION:
URL:https://lakecomobeachpoa.com/event/90th-birthday-set-up/
CATEGORIES:Clubhouse Rental
END:VEVENT
BEGIN:VEVENT
DTSTART;VALUE=DATE:20250919
DTEND;VALUE=DATE:20250920
DTSTAMP:20260422T083859
CREATED:20250809T163708Z
LAST-MODIFIED:20250809T163708Z
UID:10001664-1758240000-1758326399@lakecomobeachpoa.com
SUMMARY:90th Birthday Party
DESCRIPTION:
URL:https://lakecomobeachpoa.com/event/90th-birthday-party/
CATEGORIES:Clubhouse Rental
END:VEVENT
BEGIN:VEVENT
DTSTART;VALUE=DATE:20250926
DTEND;VALUE=DATE:20250927
DTSTAMP:20260422T083859
CREATED:20250809T163743Z
LAST-MODIFIED:20250809T163743Z
UID:10001665-1758844800-1758931199@lakecomobeachpoa.com
SUMMARY:Wedding Set-up
DESCRIPTION:
URL:https://lakecomobeachpoa.com/event/wedding-set-up-30/
CATEGORIES:Clubhouse Rental
END:VEVENT
BEGIN:VEVENT
DTSTART;VALUE=DATE:20250927
DTEND;VALUE=DATE:20250928
DTSTAMP:20260422T083859
CREATED:20250809T163812Z
LAST-MODIFIED:20250809T163812Z
UID:10001666-1758931200-1759017599@lakecomobeachpoa.com
SUMMARY:Wedding
DESCRIPTION:
URL:https://lakecomobeachpoa.com/event/wedding-26/
CATEGORIES:Clubhouse Rental
END:VEVENT
BEGIN:VEVENT
DTSTART;VALUE=DATE:20250928
DTEND;VALUE=DATE:20250929
DTSTAMP:20260422T083859
CREATED:20250809T163900Z
LAST-MODIFIED:20250809T163900Z
UID:10001667-1759017600-1759103999@lakecomobeachpoa.com
SUMMARY:Wedding Clean Up
DESCRIPTION:
URL:https://lakecomobeachpoa.com/event/wedding-clean-up-5/
CATEGORIES:Clubhouse Rental
END:VEVENT
END:VCALENDAR