BEGIN:VCALENDAR
VERSION:2.0
PRODID:-//Lake Como Beach Property Owner&#039;s Association - ECPv6.15.17.1//NONSGML v1.0//EN
CALSCALE:GREGORIAN
METHOD:PUBLISH
X-ORIGINAL-URL:https://lakecomobeachpoa.com
X-WR-CALDESC:Events for Lake Como Beach Property Owner&#039;s Association
REFRESH-INTERVAL;VALUE=DURATION:PT1H
X-Robots-Tag:noindex
X-PUBLISHED-TTL:PT1H
BEGIN:VTIMEZONE
TZID:America/Chicago
BEGIN:DAYLIGHT
TZOFFSETFROM:-0600
TZOFFSETTO:-0500
TZNAME:CDT
DTSTART:20240310T080000
END:DAYLIGHT
BEGIN:STANDARD
TZOFFSETFROM:-0500
TZOFFSETTO:-0600
TZNAME:CST
DTSTART:20241103T070000
END:STANDARD
BEGIN:DAYLIGHT
TZOFFSETFROM:-0600
TZOFFSETTO:-0500
TZNAME:CDT
DTSTART:20250309T080000
END:DAYLIGHT
BEGIN:STANDARD
TZOFFSETFROM:-0500
TZOFFSETTO:-0600
TZNAME:CST
DTSTART:20251102T070000
END:STANDARD
BEGIN:DAYLIGHT
TZOFFSETFROM:-0600
TZOFFSETTO:-0500
TZNAME:CDT
DTSTART:20260308T080000
END:DAYLIGHT
BEGIN:STANDARD
TZOFFSETFROM:-0500
TZOFFSETTO:-0600
TZNAME:CST
DTSTART:20261101T070000
END:STANDARD
END:VTIMEZONE
BEGIN:VEVENT
DTSTART;VALUE=DATE:20251102
DTEND;VALUE=DATE:20251103
DTSTAMP:20260422T044239
CREATED:20251029T211159Z
LAST-MODIFIED:20251029T211159Z
UID:10001683-1762041600-1762127999@lakecomobeachpoa.com
SUMMARY:Baby Shower
DESCRIPTION:
URL:https://lakecomobeachpoa.com/event/baby-shower-20/
CATEGORIES:Clubhouse Rental
END:VEVENT
BEGIN:VEVENT
DTSTART;VALUE=DATE:20251108
DTEND;VALUE=DATE:20251109
DTSTAMP:20260422T044239
CREATED:20251029T211320Z
LAST-MODIFIED:20251029T211320Z
UID:10001684-1762560000-1762646399@lakecomobeachpoa.com
SUMMARY:Birthday
DESCRIPTION:
URL:https://lakecomobeachpoa.com/event/birthday-4/
CATEGORIES:Clubhouse Rental
END:VEVENT
BEGIN:VEVENT
DTSTART;VALUE=DATE:20251115
DTEND;VALUE=DATE:20251116
DTSTAMP:20260422T044239
CREATED:20251029T211419Z
LAST-MODIFIED:20251029T211419Z
UID:10001686-1763164800-1763251199@lakecomobeachpoa.com
SUMMARY:Celebration of Life
DESCRIPTION:
URL:https://lakecomobeachpoa.com/event/celebration-of-life-6/
CATEGORIES:Clubhouse Rental
END:VEVENT
BEGIN:VEVENT
DTSTART;VALUE=DATE:20251122
DTEND;VALUE=DATE:20251123
DTSTAMP:20260422T044239
CREATED:20251029T211457Z
LAST-MODIFIED:20251029T211457Z
UID:10001687-1763769600-1763855999@lakecomobeachpoa.com
SUMMARY:Birthday
DESCRIPTION:
URL:https://lakecomobeachpoa.com/event/birthday-5/
CATEGORIES:Clubhouse Rental
END:VEVENT
BEGIN:VEVENT
DTSTART;VALUE=DATE:20251123
DTEND;VALUE=DATE:20251124
DTSTAMP:20260422T044239
CREATED:20251029T211543Z
LAST-MODIFIED:20251029T211543Z
UID:10001688-1763856000-1763942399@lakecomobeachpoa.com
SUMMARY:Baby Shower
DESCRIPTION:
URL:https://lakecomobeachpoa.com/event/baby-shower-21/
CATEGORIES:Clubhouse Rental
END:VEVENT
BEGIN:VEVENT
DTSTART;VALUE=DATE:20251129
DTEND;VALUE=DATE:20251130
DTSTAMP:20260422T044239
CREATED:20251029T211613Z
LAST-MODIFIED:20251029T211613Z
UID:10001689-1764374400-1764460799@lakecomobeachpoa.com
SUMMARY:Shower
DESCRIPTION:
URL:https://lakecomobeachpoa.com/event/shower-5/
CATEGORIES:Clubhouse Rental
END:VEVENT
END:VCALENDAR