BEGIN:VCALENDAR
VERSION:2.0
PRODID:-//Lake Como Beach Property Owner&#039;s Association - ECPv6.15.17.1//NONSGML v1.0//EN
CALSCALE:GREGORIAN
METHOD:PUBLISH
X-ORIGINAL-URL:https://lakecomobeachpoa.com
X-WR-CALDESC:Events for Lake Como Beach Property Owner&#039;s Association
REFRESH-INTERVAL;VALUE=DURATION:PT1H
X-Robots-Tag:noindex
X-PUBLISHED-TTL:PT1H
BEGIN:VTIMEZONE
TZID:America/Chicago
BEGIN:DAYLIGHT
TZOFFSETFROM:-0600
TZOFFSETTO:-0500
TZNAME:CDT
DTSTART:20250309T080000
END:DAYLIGHT
BEGIN:STANDARD
TZOFFSETFROM:-0500
TZOFFSETTO:-0600
TZNAME:CST
DTSTART:20251102T070000
END:STANDARD
BEGIN:DAYLIGHT
TZOFFSETFROM:-0600
TZOFFSETTO:-0500
TZNAME:CDT
DTSTART:20260308T080000
END:DAYLIGHT
BEGIN:STANDARD
TZOFFSETFROM:-0500
TZOFFSETTO:-0600
TZNAME:CST
DTSTART:20261101T070000
END:STANDARD
BEGIN:DAYLIGHT
TZOFFSETFROM:-0600
TZOFFSETTO:-0500
TZNAME:CDT
DTSTART:20270314T080000
END:DAYLIGHT
BEGIN:STANDARD
TZOFFSETFROM:-0500
TZOFFSETTO:-0600
TZNAME:CST
DTSTART:20271107T070000
END:STANDARD
END:VTIMEZONE
BEGIN:VEVENT
DTSTART;VALUE=DATE:20260103
DTEND;VALUE=DATE:20260104
DTSTAMP:20260420T001240
CREATED:20251206T153029Z
LAST-MODIFIED:20251206T153029Z
UID:10001711-1767398400-1767484799@lakecomobeachpoa.com
SUMMARY:80th Birthday
DESCRIPTION:
URL:https://lakecomobeachpoa.com/event/80th-birthday/
CATEGORIES:Clubhouse Rental
END:VEVENT
BEGIN:VEVENT
DTSTART;VALUE=DATE:20260117
DTEND;VALUE=DATE:20260118
DTSTAMP:20260420T001240
CREATED:20260110T181652Z
LAST-MODIFIED:20260110T181652Z
UID:10001716-1768608000-1768694399@lakecomobeachpoa.com
SUMMARY:Babyshower
DESCRIPTION:
URL:https://lakecomobeachpoa.com/event/babyshower-2/
CATEGORIES:Clubhouse Rental
END:VEVENT
BEGIN:VEVENT
DTSTART;VALUE=DATE:20260120
DTEND;VALUE=DATE:20260121
DTSTAMP:20260420T001240
CREATED:20260120T211654Z
LAST-MODIFIED:20260120T211742Z
UID:10001719-1768867200-1768953599@lakecomobeachpoa.com
SUMMARY:Gender Reveal
DESCRIPTION:
URL:https://lakecomobeachpoa.com/event/gender-reveal/
CATEGORIES:Clubhouse Rental
END:VEVENT
BEGIN:VEVENT
DTSTART;VALUE=DATE:20260124
DTEND;VALUE=DATE:20260125
DTSTAMP:20260420T001240
CREATED:20251206T153124Z
LAST-MODIFIED:20251206T153124Z
UID:10001712-1769212800-1769299199@lakecomobeachpoa.com
SUMMARY:Christmas Party
DESCRIPTION:Nash
URL:https://lakecomobeachpoa.com/event/christmas-party-3/
CATEGORIES:Clubhouse Rental
END:VEVENT
BEGIN:VEVENT
DTSTART;VALUE=DATE:20260131
DTEND;VALUE=DATE:20260201
DTSTAMP:20260420T001240
CREATED:20251206T153202Z
LAST-MODIFIED:20251206T153202Z
UID:10001713-1769817600-1769903999@lakecomobeachpoa.com
SUMMARY:Winter Ball
DESCRIPTION:
URL:https://lakecomobeachpoa.com/event/winter-ball/
CATEGORIES:Clubhouse Rental
END:VEVENT
END:VCALENDAR