BEGIN:VCALENDAR
VERSION:2.0
PRODID:-//Lake Como Beach Property Owner&#039;s Association - ECPv6.15.17.1//NONSGML v1.0//EN
CALSCALE:GREGORIAN
METHOD:PUBLISH
X-WR-CALNAME:Lake Como Beach Property Owner&#039;s Association
X-ORIGINAL-URL:https://lakecomobeachpoa.com
X-WR-CALDESC:Events for Lake Como Beach Property Owner&#039;s Association
REFRESH-INTERVAL;VALUE=DURATION:PT1H
X-Robots-Tag:noindex
X-PUBLISHED-TTL:PT1H
BEGIN:VTIMEZONE
TZID:America/Chicago
BEGIN:DAYLIGHT
TZOFFSETFROM:-0600
TZOFFSETTO:-0500
TZNAME:CDT
DTSTART:20250309T080000
END:DAYLIGHT
BEGIN:STANDARD
TZOFFSETFROM:-0500
TZOFFSETTO:-0600
TZNAME:CST
DTSTART:20251102T070000
END:STANDARD
BEGIN:DAYLIGHT
TZOFFSETFROM:-0600
TZOFFSETTO:-0500
TZNAME:CDT
DTSTART:20260308T080000
END:DAYLIGHT
BEGIN:STANDARD
TZOFFSETFROM:-0500
TZOFFSETTO:-0600
TZNAME:CST
DTSTART:20261101T070000
END:STANDARD
BEGIN:DAYLIGHT
TZOFFSETFROM:-0600
TZOFFSETTO:-0500
TZNAME:CDT
DTSTART:20270314T080000
END:DAYLIGHT
BEGIN:STANDARD
TZOFFSETFROM:-0500
TZOFFSETTO:-0600
TZNAME:CST
DTSTART:20271107T070000
END:STANDARD
END:VTIMEZONE
BEGIN:VEVENT
DTSTART;VALUE=DATE:20260308
DTEND;VALUE=DATE:20260309
DTSTAMP:20260419T204125
CREATED:20260303T222242Z
LAST-MODIFIED:20260303T222242Z
UID:10001727-1772928000-1773014399@lakecomobeachpoa.com
SUMMARY:Celebaration of Life
DESCRIPTION:
URL:https://lakecomobeachpoa.com/event/celebaration-of-life-2/
CATEGORIES:Clubhouse Rental
END:VEVENT
BEGIN:VEVENT
DTSTART;VALUE=DATE:20260314
DTEND;VALUE=DATE:20260315
DTSTAMP:20260419T204125
CREATED:20260303T222832Z
LAST-MODIFIED:20260303T222832Z
UID:10001778-1773446400-1773532799@lakecomobeachpoa.com
SUMMARY:50th Anniversary
DESCRIPTION:
URL:https://lakecomobeachpoa.com/event/50th-anniversary/
CATEGORIES:Clubhouse Rental
END:VEVENT
BEGIN:VEVENT
DTSTART;VALUE=DATE:20260321
DTEND;VALUE=DATE:20260322
DTSTAMP:20260419T204125
CREATED:20260303T222911Z
LAST-MODIFIED:20260303T222911Z
UID:10001779-1774051200-1774137599@lakecomobeachpoa.com
SUMMARY:50th Birthday
DESCRIPTION:
URL:https://lakecomobeachpoa.com/event/50th-birthday/
CATEGORIES:Clubhouse Rental
END:VEVENT
END:VCALENDAR