BEGIN:VCALENDAR
VERSION:2.0
PRODID:-//Lake Como Beach Property Owner&#039;s Association - ECPv6.15.17.1//NONSGML v1.0//EN
CALSCALE:GREGORIAN
METHOD:PUBLISH
X-ORIGINAL-URL:https://lakecomobeachpoa.com
X-WR-CALDESC:Events for Lake Como Beach Property Owner&#039;s Association
REFRESH-INTERVAL;VALUE=DURATION:PT1H
X-Robots-Tag:noindex
X-PUBLISHED-TTL:PT1H
BEGIN:VTIMEZONE
TZID:America/Chicago
BEGIN:DAYLIGHT
TZOFFSETFROM:-0600
TZOFFSETTO:-0500
TZNAME:CDT
DTSTART:20250309T080000
END:DAYLIGHT
BEGIN:STANDARD
TZOFFSETFROM:-0500
TZOFFSETTO:-0600
TZNAME:CST
DTSTART:20251102T070000
END:STANDARD
BEGIN:DAYLIGHT
TZOFFSETFROM:-0600
TZOFFSETTO:-0500
TZNAME:CDT
DTSTART:20260308T080000
END:DAYLIGHT
BEGIN:STANDARD
TZOFFSETFROM:-0500
TZOFFSETTO:-0600
TZNAME:CST
DTSTART:20261101T070000
END:STANDARD
BEGIN:DAYLIGHT
TZOFFSETFROM:-0600
TZOFFSETTO:-0500
TZNAME:CDT
DTSTART:20270314T080000
END:DAYLIGHT
BEGIN:STANDARD
TZOFFSETFROM:-0500
TZOFFSETTO:-0600
TZNAME:CST
DTSTART:20271107T070000
END:STANDARD
END:VTIMEZONE
BEGIN:VEVENT
DTSTART;VALUE=DATE:20260502
DTEND;VALUE=DATE:20260503
DTSTAMP:20260419T204228
CREATED:20260413T205406Z
LAST-MODIFIED:20260413T205406Z
UID:10001790-1777680000-1777766399@lakecomobeachpoa.com
SUMMARY:Booked
DESCRIPTION:
URL:https://lakecomobeachpoa.com/event/booked-8/
CATEGORIES:Clubhouse Rental
END:VEVENT
BEGIN:VEVENT
DTSTART;VALUE=DATE:20260503
DTEND;VALUE=DATE:20260504
DTSTAMP:20260419T204228
CREATED:20260413T205522Z
LAST-MODIFIED:20260413T205522Z
UID:10001791-1777766400-1777852799@lakecomobeachpoa.com
SUMMARY:Booked
DESCRIPTION:
URL:https://lakecomobeachpoa.com/event/booked-6/
CATEGORIES:Clubhouse Rental
END:VEVENT
BEGIN:VEVENT
DTSTART;VALUE=DATE:20260509
DTEND;VALUE=DATE:20260510
DTSTAMP:20260419T204228
CREATED:20260413T205600Z
LAST-MODIFIED:20260413T205600Z
UID:10001792-1778284800-1778371199@lakecomobeachpoa.com
SUMMARY:Booked
DESCRIPTION:
URL:https://lakecomobeachpoa.com/event/booked-7/
CATEGORIES:Clubhouse Rental
END:VEVENT
BEGIN:VEVENT
DTSTART;VALUE=DATE:20260516
DTEND;VALUE=DATE:20260517
DTSTAMP:20260419T204228
CREATED:20260413T205632Z
LAST-MODIFIED:20260413T205632Z
UID:10001793-1778889600-1778975999@lakecomobeachpoa.com
SUMMARY:Booked
DESCRIPTION:
URL:https://lakecomobeachpoa.com/event/booked-9/
CATEGORIES:Clubhouse Rental
END:VEVENT
END:VCALENDAR