BEGIN:VCALENDAR
VERSION:2.0
PRODID:-//Lake Como Beach Property Owner&#039;s Association - ECPv6.15.17.1//NONSGML v1.0//EN
CALSCALE:GREGORIAN
METHOD:PUBLISH
X-ORIGINAL-URL:https://lakecomobeachpoa.com
X-WR-CALDESC:Events for Lake Como Beach Property Owner&#039;s Association
REFRESH-INTERVAL;VALUE=DURATION:PT1H
X-Robots-Tag:noindex
X-PUBLISHED-TTL:PT1H
BEGIN:VTIMEZONE
TZID:America/Chicago
BEGIN:DAYLIGHT
TZOFFSETFROM:-0600
TZOFFSETTO:-0500
TZNAME:CDT
DTSTART:20250309T080000
END:DAYLIGHT
BEGIN:STANDARD
TZOFFSETFROM:-0500
TZOFFSETTO:-0600
TZNAME:CST
DTSTART:20251102T070000
END:STANDARD
BEGIN:DAYLIGHT
TZOFFSETFROM:-0600
TZOFFSETTO:-0500
TZNAME:CDT
DTSTART:20260308T080000
END:DAYLIGHT
BEGIN:STANDARD
TZOFFSETFROM:-0500
TZOFFSETTO:-0600
TZNAME:CST
DTSTART:20261101T070000
END:STANDARD
BEGIN:DAYLIGHT
TZOFFSETFROM:-0600
TZOFFSETTO:-0500
TZNAME:CDT
DTSTART:20270314T080000
END:DAYLIGHT
BEGIN:STANDARD
TZOFFSETFROM:-0500
TZOFFSETTO:-0600
TZNAME:CST
DTSTART:20271107T070000
END:STANDARD
END:VTIMEZONE
BEGIN:VEVENT
DTSTART;TZID=America/Chicago:20260303T183000
DTEND;TZID=America/Chicago:20260303T193000
DTSTAMP:20260419T151028
CREATED:20250805T185652Z
LAST-MODIFIED:20250805T185652Z
UID:10001521-1772562600-1772566200@lakecomobeachpoa.com
SUMMARY:Womens Club Meeting
DESCRIPTION:
URL:https://lakecomobeachpoa.com/event/womens-club-meeting-5/2026-03-03/
CATEGORIES:Women's Club
ATTACH;FMTTYPE=image/png:https://cdn.townweb.com/lakecomobeachpoa.com/wp-content/uploads/2025/08/Copy-of-Lake-Como-Beach-2-1.png
END:VEVENT
BEGIN:VEVENT
DTSTART;VALUE=DATE:20260308
DTEND;VALUE=DATE:20260309
DTSTAMP:20260419T151028
CREATED:20260303T222242Z
LAST-MODIFIED:20260303T222242Z
UID:10001727-1772928000-1773014399@lakecomobeachpoa.com
SUMMARY:Celebaration of Life
DESCRIPTION:
URL:https://lakecomobeachpoa.com/event/celebaration-of-life-2/
CATEGORIES:Clubhouse Rental
END:VEVENT
BEGIN:VEVENT
DTSTART;TZID=America/Chicago:20260311T113000
DTEND;TZID=America/Chicago:20260311T150000
DTSTAMP:20260419T151028
CREATED:20260303T222543Z
LAST-MODIFIED:20260303T222543Z
UID:10001728-1773228600-1773241200@lakecomobeachpoa.com
SUMMARY:Bunco
DESCRIPTION:Coffee and Cake
URL:https://lakecomobeachpoa.com/event/bunco-7/2026-03-11/
CATEGORIES:Women's Club
END:VEVENT
BEGIN:VEVENT
DTSTART;TZID=America/Chicago:20260311T180000
DTEND;TZID=America/Chicago:20260311T200000
DTSTAMP:20260419T151028
CREATED:20250805T172908Z
LAST-MODIFIED:20250805T172908Z
UID:10001484-1773252000-1773259200@lakecomobeachpoa.com
SUMMARY:BOD Workshop
DESCRIPTION:
URL:https://lakecomobeachpoa.com/event/bod-workshop-6/2026-03-11/
CATEGORIES:Workshop
ATTACH;FMTTYPE=image/png:https://cdn.townweb.com/lakecomobeachpoa.com/wp-content/uploads/2025/01/Copy-of-Lake-Como-Beach-2.png
END:VEVENT
BEGIN:VEVENT
DTSTART;TZID=America/Chicago:20260312T170000
DTEND;TZID=America/Chicago:20260312T190000
DTSTAMP:20260419T151028
CREATED:20260305T160305Z
LAST-MODIFIED:20260305T160305Z
UID:10001782-1773334800-1773342000@lakecomobeachpoa.com
SUMMARY:100 Year Anniversary Meeting
DESCRIPTION:
URL:https://lakecomobeachpoa.com/event/100-year-anniversary-meeting-3/
CATEGORIES:General
END:VEVENT
BEGIN:VEVENT
DTSTART;VALUE=DATE:20260314
DTEND;VALUE=DATE:20260315
DTSTAMP:20260419T151028
CREATED:20260303T222832Z
LAST-MODIFIED:20260303T222832Z
UID:10001778-1773446400-1773532799@lakecomobeachpoa.com
SUMMARY:50th Anniversary
DESCRIPTION:
URL:https://lakecomobeachpoa.com/event/50th-anniversary/
CATEGORIES:Clubhouse Rental
END:VEVENT
BEGIN:VEVENT
DTSTART;TZID=America/Chicago:20260318T183000
DTEND;TZID=America/Chicago:20260318T200000
DTSTAMP:20260419T151028
CREATED:20250805T173025Z
LAST-MODIFIED:20250805T173025Z
UID:10001498-1773858600-1773864000@lakecomobeachpoa.com
SUMMARY:Board of Director’s Meeting
DESCRIPTION:
URL:https://lakecomobeachpoa.com/event/board-of-directors-meeting-10/2026-03-18/
CATEGORIES:General
ATTACH;FMTTYPE=image/png:https://cdn.townweb.com/lakecomobeachpoa.com/wp-content/uploads/2025/08/Copy-of-Lake-Como-Beach-2.png
END:VEVENT
BEGIN:VEVENT
DTSTART;VALUE=DATE:20260321
DTEND;VALUE=DATE:20260322
DTSTAMP:20260419T151028
CREATED:20260303T222911Z
LAST-MODIFIED:20260303T222911Z
UID:10001779-1774051200-1774137599@lakecomobeachpoa.com
SUMMARY:50th Birthday
DESCRIPTION:
URL:https://lakecomobeachpoa.com/event/50th-birthday/
CATEGORIES:Clubhouse Rental
END:VEVENT
BEGIN:VEVENT
DTSTART;TZID=America/Chicago:20260325T113000
DTEND;TZID=America/Chicago:20260325T153000
DTSTAMP:20260419T151028
CREATED:20260303T222739Z
LAST-MODIFIED:20260303T222739Z
UID:10001753-1774438200-1774452600@lakecomobeachpoa.com
SUMMARY:Bunco
DESCRIPTION:
URL:https://lakecomobeachpoa.com/event/bunco-9/2026-03-25/
CATEGORIES:Women's Club
END:VEVENT
BEGIN:VEVENT
DTSTART;TZID=America/Chicago:20260328T100000
DTEND;TZID=America/Chicago:20260328T103000
DTSTAMP:20260419T151028
CREATED:20260304T182710Z
LAST-MODIFIED:20260304T182710Z
UID:10001780-1774692000-1774693800@lakecomobeachpoa.com
SUMMARY:Easter Egg Hunt
DESCRIPTION:
URL:https://lakecomobeachpoa.com/event/easter-egg-hunt-2/
CATEGORIES:General
END:VEVENT
END:VCALENDAR